BEGIN:VCALENDAR
VERSION:2.0
PRODID:-//Scapo-Online - ECPv6.15.11//NONSGML v1.0//EN
CALSCALE:GREGORIAN
METHOD:PUBLISH
X-WR-CALNAME:Scapo-Online
X-ORIGINAL-URL:https://www.scapo-online.org
X-WR-CALDESC:Events for Scapo-Online
REFRESH-INTERVAL;VALUE=DURATION:PT1H
X-Robots-Tag:noindex
X-PUBLISHED-TTL:PT1H
BEGIN:VTIMEZONE
TZID:UTC
BEGIN:STANDARD
TZOFFSETFROM:+0000
TZOFFSETTO:+0000
TZNAME:UTC
DTSTART:20200101T000000
END:STANDARD
END:VTIMEZONE
BEGIN:VEVENT
DTSTART;TZID=UTC:20211002T080000
DTEND;TZID=UTC:20211002T170000
DTSTAMP:20260423T202508
CREATED:20210910T215240Z
LAST-MODIFIED:20210910T215240Z
UID:2717-1633161600-1633194000@www.scapo-online.org
SUMMARY:SCAPO and WPPJ International Conference - Day 3
DESCRIPTION:
URL:https://www.scapo-online.org/event/scapo-and-wppj-international-conference-day-3/
END:VEVENT
BEGIN:VEVENT
DTSTART;TZID=UTC:20211001T080000
DTEND;TZID=UTC:20211001T170000
DTSTAMP:20260423T202508
CREATED:20210816T195050Z
LAST-MODIFIED:20210910T214437Z
UID:2534-1633075200-1633107600@www.scapo-online.org
SUMMARY:SCAPO and WPPJ International Conference - Day 2
DESCRIPTION:
URL:https://www.scapo-online.org/event/scapo-international-conference-day-2/
LOCATION:Online / University of Massachusetts
ATTACH;FMTTYPE=image/png:https://www.scapo-online.org/wp-content/uploads/2021/08/Independence-Day-1st-Oct-1961-Celebration-in-Victoria-now-Limbe.png
END:VEVENT
BEGIN:VEVENT
DTSTART;TZID=UTC:20210930T080000
DTEND;TZID=UTC:20210930T170000
DTSTAMP:20260423T202508
CREATED:20210721T212350Z
LAST-MODIFIED:20210910T214220Z
UID:2329-1632988800-1633021200@www.scapo-online.org
SUMMARY:SCAPO and WPPJ International Conference marking the 60th Anniversary of the Southern Cameroons.
DESCRIPTION:
URL:https://www.scapo-online.org/event/scapo-international-conference/
LOCATION:Online / University of Massachusetts
ATTACH;FMTTYPE=image/png:https://www.scapo-online.org/wp-content/uploads/2021/07/West-Cameroon-Police-College-Mutengene.png
END:VEVENT
END:VCALENDAR